BEGIN:VCALENDAR
VERSION:2.0
PRODID:icalendar-ruby
CALSCALE:GREGORIAN
METHOD:PUBLISH
BEGIN:VEVENT
DTSTAMP:20260422T072354Z
UID:244-3164312@valleyanglicans.ca
DTSTART:20261021T140000Z
DTEND:20261021T150000Z
CLASS:PUBLIC
CREATED:20260421T193839
DESCRIPTION:Please join us for a contemplative said worship service\, each 
 Wednesday at 10am at Holy Trinity\, Pembroke.
LAST-MODIFIED:20260421T193839
LOCATION:Holy Trinity Pembroke
SUMMARY:Wednesday Worship
URL;VALUE=URI:https://www.valleyanglicans.ca/events/wednesday-worship/2026-
 10-21
ATTACH;FILENAME=Wednesday-Worship.png;FMTTYPE=image/png:https://dq5pwpg1q8r
 u0.cloudfront.net/2022/07/06/06/59/55/a0a1278a-4f35-4d08-a508-4cd767265efb
 /Wednesday-Worship.png
END:VEVENT
END:VCALENDAR
