BEGIN:VCALENDAR
VERSION:2.0
PRODID:icalendar-ruby
CALSCALE:GREGORIAN
METHOD:PUBLISH
BEGIN:VEVENT
DTSTAMP:20260422T231158Z
UID:505-3169260@valleyanglicans.ca
DTSTART;VALUE=DATE:20260606
DTEND;VALUE=DATE:20260606
CLASS:PUBLIC
CREATED:20260422T114906
DESCRIPTION:The Big Give is back!\nSaturday\, June 6th at the Cobden Fairgr
 ounds - a partnership between Cobden Pentecostal Church\, Whitewater Wesl
 eyan Church\, St. Paul’s Anglican Church\, St. Andrews Presbyterian Chur
 ch and Grace United Church.
LAST-MODIFIED:20260422T114906
LOCATION:Cobden Fairgrounds
SUMMARY:The Big Give
URL;VALUE=URI:https://www.valleyanglicans.ca/events/the-big-give--505/2026-
 06-06
ATTACH;FILENAME=Big-Give.png;FMTTYPE=image/png:https://dq5pwpg1q8ru0.cloudf
 ront.net/2026/04/22/15/49/06/ad7491c4-e01c-4d1e-b225-e89f275479d3/Big-Give
 .png
END:VEVENT
END:VCALENDAR
