BEGIN:VCALENDAR
VERSION:2.0
PRODID:icalendar-ruby
CALSCALE:GREGORIAN
METHOD:PUBLISH
BEGIN:VEVENT
DTSTAMP:20260426T023646Z
UID:384-3216068@valleyanglicans.ca
DTSTART:20261020T140000Z
DTEND:20261020T180000Z
CLASS:PUBLIC
CREATED:20260425T200030
DESCRIPTION:Epiphany Fashions at Church of the Epiphany in Barry’s Bay is
  open twice a week: Tuesdays and Saturdays from 10am - 2pm. Come and shop 
 the wonderful selection of pay-what-you-can clothing!\nDonations are accep
 ted during opening hours.\n32 Dunn St. in Barry's Bay.
LAST-MODIFIED:20260425T200030
LOCATION:Church of the Epiphany\, Barry's Bay
SUMMARY:Epiphany Fashions Clothing Bank
URL;VALUE=URI:https://www.valleyanglicans.ca/events/epiphany-fashions-cloth
 ing-bank--384/2026-10-20
ATTACH;FILENAME=Epiphany-Fashions.png;FMTTYPE=image/png:https://dq5pwpg1q8r
 u0.cloudfront.net/2024/09/04/21/03/26/e94f1986-1c39-4d13-bd70-342dcdf7e12e
 /Epiphany-Fashions.png
END:VEVENT
END:VCALENDAR
